BEGIN:VCALENDAR
VERSION:2.0
PRODID:-//PATHS – Provincial Association of Transition Houses and Services of Saskatchewan - ECPv6.15.17//NONSGML v1.0//EN
CALSCALE:GREGORIAN
METHOD:PUBLISH
X-WR-CALNAME:PATHS – Provincial Association of Transition Houses and Services of Saskatchewan
X-ORIGINAL-URL:https://pathssk.org
X-WR-CALDESC:Events for PATHS – Provincial Association of Transition Houses and Services of Saskatchewan
REFRESH-INTERVAL;VALUE=DURATION:PT1H
X-Robots-Tag:noindex
X-PUBLISHED-TTL:PT1H
BEGIN:VTIMEZONE
TZID:America/Regina
BEGIN:STANDARD
TZOFFSETFROM:-0600
TZOFFSETTO:-0600
TZNAME:CST
DTSTART:20200101T000000
END:STANDARD
END:VTIMEZONE
BEGIN:VEVENT
DTSTART;TZID=America/Regina:20210518T120000
DTEND;TZID=America/Regina:20210518T130000
DTSTAMP:20260423T234128
CREATED:20210501T030801Z
LAST-MODIFIED:20210501T030801Z
UID:761-1621339200-1621342800@pathssk.org
SUMMARY:Violence Link Webinar Series: Domestic Violence
DESCRIPTION:Saskatchewan SPCA is hosting a Violence Link webinar series. On May 18\, Jo-Anne Dusel\, PATHS Executive Director\, will present Domestic Violence: What to Know\, Say\, and Do. For more information on the webinar series\, click here. To register\, click here. \n \n  \n 
URL:https://pathssk.org/event/violence-link-webinar-series-domestic-violence/
END:VEVENT
END:VCALENDAR