BEGIN:VCALENDAR
VERSION:2.0
PRODID:-//PATHS – Provincial Association of Transition Houses and Services of Saskatchewan - ECPv6.15.17//NONSGML v1.0//EN
CALSCALE:GREGORIAN
METHOD:PUBLISH
X-ORIGINAL-URL:https://pathssk.org
X-WR-CALDESC:Events for PATHS – Provincial Association of Transition Houses and Services of Saskatchewan
REFRESH-INTERVAL;VALUE=DURATION:PT1H
X-Robots-Tag:noindex
X-PUBLISHED-TTL:PT1H
BEGIN:VTIMEZONE
TZID:America/Regina
BEGIN:STANDARD
TZOFFSETFROM:-0600
TZOFFSETTO:-0600
TZNAME:CST
DTSTART:20200101T000000
END:STANDARD
END:VTIMEZONE
BEGIN:VEVENT
DTSTART;TZID=America/Regina:20211122T080000
DTEND;TZID=America/Regina:20211125T120000
DTSTAMP:20260423T145954
CREATED:20210809T220838Z
LAST-MODIFIED:20220112T194202Z
UID:1099-1637568000-1637841600@pathssk.org
SUMMARY:Understanding the Dynamics of Domestic Violence for Family Law Practitioners
DESCRIPTION:This training will provide an overview of the dynamics of domestic violence in the context of separation\, divorce\, and child custody and access. All are welcome to attend. The training will take place over 4 mornings (8 am – 12 pm Saskatchewan time)\, Monday\, November 22- Thursday\, November 25. The training will be held using Zoom. A link and password will be sent out to registered participants prior to the training. \nThis training qualifies for:\n• 15 hours for Continuing Professional Development credits (4.5 hours of Ethics credits) with the Law Society of Saskatchewan\n• 32 ADRIC Continuing Education & Engagement (CEE) points with the ADR Institute of Saskatchewan\n• 15 hours for Continuing Professional Development credits with Law Society of British Columbia\n• Alberta\, Manitoba\, Northwest Territories\, and Yukon lawyers: consider including this course as a CPD learning activity in your annual Continuing Professional Development Plan \nSee the detailed agenda here \nRegister Here  (When registering\, be sure to select the dates that you wish to attend under “available training courses”)
URL:https://pathssk.org/event/november-family-law/
CATEGORIES:PATHS
END:VEVENT
END:VCALENDAR