BEGIN:VCALENDAR
VERSION:2.0
PRODID:-//PATHS – Provincial Association of Transition Houses and Services of Saskatchewan - ECPv6.15.17//NONSGML v1.0//EN
CALSCALE:GREGORIAN
METHOD:PUBLISH
X-ORIGINAL-URL:https://pathssk.org
X-WR-CALDESC:Events for PATHS – Provincial Association of Transition Houses and Services of Saskatchewan
REFRESH-INTERVAL;VALUE=DURATION:PT1H
X-Robots-Tag:noindex
X-PUBLISHED-TTL:PT1H
BEGIN:VTIMEZONE
TZID:America/Regina
BEGIN:STANDARD
TZOFFSETFROM:-0600
TZOFFSETTO:-0600
TZNAME:CST
DTSTART:20210101T000000
END:STANDARD
END:VTIMEZONE
BEGIN:VEVENT
DTSTART;TZID=America/Regina:20220117T080000
DTEND;TZID=America/Regina:20220121T120000
DTSTAMP:20260423T120439
CREATED:20210809T221041Z
LAST-MODIFIED:20220112T194118Z
UID:1101-1642406400-1642766400@pathssk.org
SUMMARY:Understanding the Dynamics of Domestic Violence for Family Law Practitioners
DESCRIPTION:This training will provide an overview of the dynamics of domestic violence in the context of separation\, divorce\, and child custody and access. All are welcome to attend. The training will take place over 4 mornings (8 am – 12 pm Saskatchewan time)\, Monday\, January 17- Thursday\, January 20\, 2022. The training will be held using Zoom. A link and password will be sent out to registered participants prior to the training. \nThis training qualifies for:\n• 15 hours for Continuing Professional Development credits (4.5 hours of Ethics credits) with the Law Society of Saskatchewan\n• 32 ADRIC Continuing Education & Engagement (CEE) points with the ADR Institute of Saskatchewan\n• 15 hours for Continuing Professional Development credits with Law Society of British Columbia\n• Alberta\, Manitoba\, Northwest Territories\, and Yukon lawyers: consider including this course as a CPD learning activity in your annual Continuing Professional Development Plan \nSee the detailed agenda here \nRegister Here (When registering\, be sure to select the dates that you wish to attend under “available training courses”)
URL:https://pathssk.org/event/january2022-family-law/
CATEGORIES:PATHS
END:VEVENT
BEGIN:VEVENT
DTSTART;TZID=America/Regina:20220119T120000
DTEND;TZID=America/Regina:20220119T130000
DTSTAMP:20260423T120439
CREATED:20211217T232905Z
LAST-MODIFIED:20211217T233353Z
UID:1535-1642593600-1642597200@pathssk.org
SUMMARY:Webinar: Sheltering Animals & Families Together (SAF-T)
DESCRIPTION:Sheltering Animals & Families Together (SAF-T)®\, through its Founder/CEO Attorney Allie Phillips\, has led the movement to create on-site pet housing across the globe since the publication of the first written guidelines for domestic violence shelters in 2008. With up to 68% of women delaying going into shelter because of concerns for their pets\, the requests for pet-friendly safe housing is on the rise. When domestic violence shelters are overwhelmed with resource limitations and numerous programs\, the SAF-T Program helps with simplicity and to eliminate this barrier to safety. In this presentation attendees will understand the research supporting the need for pet-friendly housing\, how preserving the human-animal bond can help survivors with resiliency and healing\, 4 different SAF-T housing models\, and how to overcome common concerns such as allergies\, fear of pets and lack of space for pet housing. Existing shelter pet housing programs will be featured. \nRegister here
URL:https://pathssk.org/event/webinar-saf-t/
CATEGORIES:PATHS
END:VEVENT
BEGIN:VEVENT
DTSTART;TZID=America/Regina:20220126T120000
DTEND;TZID=America/Regina:20220126T130000
DTSTAMP:20260423T120439
CREATED:20211217T233103Z
LAST-MODIFIED:20211217T233334Z
UID:1538-1643198400-1643202000@pathssk.org
SUMMARY:Webinar: Becoming Pet Friendly: Guidance for Domestic Violence Shelters
DESCRIPTION:SaskSPCA\, Provincial Association of Transition Houses and Services of Saskatchewan (PATHS) and STOPS to Violence undertook a project to study the feasibility of pet-friendly domestic violence shelters and to develop guidance for domestic violence shelters to welcome pets. The project included consultation with domestic violence shelters\, including pet-friendly shelters in other provinces\, and the development of a business plan\, considering costs and partnerships. This session with share key learning relevant to the development of pet-friendly domestic violence shelters. This includes infrastructure needs\, financial considerations\, and partnership building. \nRegister here
URL:https://pathssk.org/event/webinar-pet-friendly/
CATEGORIES:PATHS
END:VEVENT
END:VCALENDAR