BEGIN:VCALENDAR
VERSION:2.0
PRODID:-//PATHS – Provincial Association of Transition Houses and Services of Saskatchewan - ECPv6.15.17//NONSGML v1.0//EN
CALSCALE:GREGORIAN
METHOD:PUBLISH
X-ORIGINAL-URL:https://pathssk.org
X-WR-CALDESC:Events for PATHS – Provincial Association of Transition Houses and Services of Saskatchewan
REFRESH-INTERVAL;VALUE=DURATION:PT1H
X-Robots-Tag:noindex
X-PUBLISHED-TTL:PT1H
BEGIN:VTIMEZONE
TZID:America/Regina
BEGIN:STANDARD
TZOFFSETFROM:-0600
TZOFFSETTO:-0600
TZNAME:CST
DTSTART:20210101T000000
END:STANDARD
END:VTIMEZONE
BEGIN:VEVENT
DTSTART;TZID=America/Regina:20220209T120000
DTEND;TZID=America/Regina:20220209T130000
DTSTAMP:20260423T103840
CREATED:20211217T233309Z
LAST-MODIFIED:20211217T233314Z
UID:1540-1644408000-1644411600@pathssk.org
SUMMARY:Webinar: Take Action- Here’s how you can assist the victims of domestic violence & their pets
DESCRIPTION:What are the signs of an abusive relationship? Is it still abuse if there is no physical violence? What is the cycle of violence? How common is domestic violence in Saskatchewan? Where can you get help if you are in danger? Are there any pet-friendly domestic violence shelters?\nWe’ll be discussing some of the many ways you can take action to help the victims of domestic violence and their pets. \nRegister here
URL:https://pathssk.org/event/webinar-take-action/
CATEGORIES:PATHS
END:VEVENT
END:VCALENDAR