BEGIN:VCALENDAR
VERSION:2.0
PRODID:-//PATHS – Provincial Association of Transition Houses and Services of Saskatchewan - ECPv6.15.17//NONSGML v1.0//EN
CALSCALE:GREGORIAN
METHOD:PUBLISH
X-ORIGINAL-URL:https://pathssk.org
X-WR-CALDESC:Events for PATHS – Provincial Association of Transition Houses and Services of Saskatchewan
REFRESH-INTERVAL;VALUE=DURATION:PT1H
X-Robots-Tag:noindex
X-PUBLISHED-TTL:PT1H
BEGIN:VTIMEZONE
TZID:America/Regina
BEGIN:STANDARD
TZOFFSETFROM:-0600
TZOFFSETTO:-0600
TZNAME:CST
DTSTART:20210101T000000
END:STANDARD
END:VTIMEZONE
BEGIN:VEVENT
DTSTART;TZID=America/Regina:20220503T120000
DTEND;TZID=America/Regina:20220503T130000
DTSTAMP:20260423T055333
CREATED:20220407T212000Z
LAST-MODIFIED:20220407T212031Z
UID:1660-1651579200-1651582800@pathssk.org
SUMMARY:Webinar: Domestic Violence: What to Know\, Say and Do
DESCRIPTION:Part of Saskatchewan SPCA’s 6-part Violence Link webinar series. \nRegister here \n\nDomestic violence impacts everyone in a family\, including pets. Unfortunately\, many people aren’t aware of the warning signs of abuse and are in long term relationships before they realize what is happening. It can be difficult to know how to get out or to ask for help. It is also difficult to know how to support someone who is living with abuse. This presentation will cover warning signs and risk factors\, statistics on prevalence and why it can be difficult to get out of abusive situations\, the link between abuse of people and their pets\, and how to find resources near you.\n\n\n\n 
URL:https://pathssk.org/event/webinar-may2022/
CATEGORIES:PATHS
END:VEVENT
BEGIN:VEVENT
DTSTART;TZID=America/Regina:20220519T100000
DTEND;TZID=America/Regina:20220519T150000
DTSTAMP:20260423T055333
CREATED:20220503T160345Z
LAST-MODIFIED:20220503T161759Z
UID:1685-1652954400-1652972400@pathssk.org
SUMMARY:Moose Jaw Victims and Survivors of Crime Week
DESCRIPTION:
URL:https://pathssk.org/event/moose-jaw-victims-and-survivors-of-crime-week/
CATEGORIES:EXTERNAL
END:VEVENT
END:VCALENDAR