BEGIN:VCALENDAR
VERSION:2.0
PRODID:-//PATHS – Provincial Association of Transition Houses and Services of Saskatchewan - ECPv6.15.17//NONSGML v1.0//EN
CALSCALE:GREGORIAN
METHOD:PUBLISH
X-WR-CALNAME:PATHS – Provincial Association of Transition Houses and Services of Saskatchewan
X-ORIGINAL-URL:https://pathssk.org
X-WR-CALDESC:Events for PATHS – Provincial Association of Transition Houses and Services of Saskatchewan
REFRESH-INTERVAL;VALUE=DURATION:PT1H
X-Robots-Tag:noindex
X-PUBLISHED-TTL:PT1H
BEGIN:VTIMEZONE
TZID:America/Regina
BEGIN:STANDARD
TZOFFSETFROM:-0600
TZOFFSETTO:-0600
TZNAME:CST
DTSTART:20210101T000000
END:STANDARD
END:VTIMEZONE
BEGIN:VEVENT
DTSTART;TZID=America/Regina:20220828T150000
DTEND;TZID=America/Regina:20220830T140000
DTSTAMP:20260422T233623
CREATED:20220526T182414Z
LAST-MODIFIED:20220825T194953Z
UID:1722-1661698800-1661868000@pathssk.org
SUMMARY:Meadow Lake Tribal Council- Awareness Campaign\, Training\, & 5K
DESCRIPTION:View the full agenda here.
URL:https://pathssk.org/event/meadow-lake-aug-2022/
CATEGORIES:EXTERNAL
END:VEVENT
END:VCALENDAR