BEGIN:VCALENDAR
VERSION:2.0
PRODID:-//PATHS – Provincial Association of Transition Houses and Services of Saskatchewan - ECPv6.15.17//NONSGML v1.0//EN
CALSCALE:GREGORIAN
METHOD:PUBLISH
X-ORIGINAL-URL:https://pathssk.org
X-WR-CALDESC:Events for PATHS – Provincial Association of Transition Houses and Services of Saskatchewan
REFRESH-INTERVAL;VALUE=DURATION:PT1H
X-Robots-Tag:noindex
X-PUBLISHED-TTL:PT1H
BEGIN:VTIMEZONE
TZID:America/Regina
BEGIN:STANDARD
TZOFFSETFROM:-0600
TZOFFSETTO:-0600
TZNAME:CST
DTSTART:20210101T000000
END:STANDARD
END:VTIMEZONE
BEGIN:VEVENT
DTSTART;TZID=America/Regina:20220919T080000
DTEND;TZID=America/Regina:20220922T120000
DTSTAMP:20260422T220447
CREATED:20211129T233722Z
LAST-MODIFIED:20220427T224235Z
UID:1488-1663574400-1663848000@pathssk.org
SUMMARY:Understanding the Dynamics of Domestic Violence for Family Law Practitioners
DESCRIPTION:This training will provide an overview of the dynamics of domestic violence in the context of separation\, divorce\, and child custody and access. All are welcome to attend. The training will take place over 4 mornings (8 am – 12 pm Saskatchewan time)\, Monday\, September 19- Thursday\, September 22\, 2022. The training will be held using Zoom. A link and password will be sent out to registered participants prior to the training. \nThis training qualifies for:\n• 15 hours for Continuing Professional Development credits (4.5 hours of Ethics credits) with the Law Society of Saskatchewan\n• 32 ADRIC Continuing Education & Engagement (CEE) points with the ADR Institute of Saskatchewan\n• 15 hours for Continuing Professional Development credits with Law Society of British Columbia\n• Alberta\, Manitoba\, Northwest Territories\, and Yukon lawyers: consider including this course as a CPD learning activity in your annual Continuing Professional Development Plan \nSee the detailed agenda here \nREGISTER HERE (When registering\, be sure to select the dates that you wish to attend under “available training courses”) \nIf you cannot attend this training\, visit this page to enter your information to be notified of future training dates!
URL:https://pathssk.org/event/sept2022-family-law/
END:VEVENT
END:VCALENDAR