BEGIN:VCALENDAR
VERSION:2.0
PRODID:-//PATHS – Provincial Association of Transition Houses and Services of Saskatchewan - ECPv6.15.17//NONSGML v1.0//EN
CALSCALE:GREGORIAN
METHOD:PUBLISH
X-ORIGINAL-URL:https://pathssk.org
X-WR-CALDESC:Events for PATHS – Provincial Association of Transition Houses and Services of Saskatchewan
REFRESH-INTERVAL;VALUE=DURATION:PT1H
X-Robots-Tag:noindex
X-PUBLISHED-TTL:PT1H
BEGIN:VTIMEZONE
TZID:America/Regina
BEGIN:STANDARD
TZOFFSETFROM:-0600
TZOFFSETTO:-0600
TZNAME:CST
DTSTART:20230101T000000
END:STANDARD
END:VTIMEZONE
BEGIN:VEVENT
DTSTART;TZID=America/Regina:20240122T080000
DTEND;TZID=America/Regina:20240125T120000
DTSTAMP:20260421T192318
CREATED:20231206T151915Z
LAST-MODIFIED:20231206T151915Z
UID:2600-1705910400-1706184000@pathssk.org
SUMMARY:PATHS Understanding Dynamics of Domestic Violence for Family Law Practitioners
DESCRIPTION:This training will provide an overview of the dynamics of domestic violence in the context of separation\, divorce\, and child custody and access. All are welcome to attend. The training will take place over 4 mornings (8 am – 12 pm Saskatchewan time)\, Monday\, January 22- Thursday\, January 25\, 2024. The training will be held using Zoom. A link and password will be sent out to participants upon registration. \nThis training qualifies for: \n\n15 hours for Continuing Professional Development credits (4.5 hours of Ethics credits) with the Law Society of Saskatchewan\n•  16 ADRIC Continuing Education & Engagement (CEE) credits to persons with a Q or C Med designation. Also approved for 16 hours of training for persons applying for a Q. Med designation.\n• 15 hours for Continuing Professional Development credits with Law Society of British Columbia\n• Alberta\, Manitoba\, Northwest Territories\, and Yukon lawyers: consider including this course as a CPD learning activity in your annual Continuing Professional Development Plan\n\nSee the detailed agenda here \nIf you cannot attend this training\, visit this page to enter your information to be notified of future training dates! \n The training is delivered by Jo-Anne Dusel and Crystal Giesbrecht. \nJo-Anne Dusel has been the Executive Director of PATHS since 2014. Prior to that\, she spent two decades working front line with women survivors of intimate partner violence at Moose Jaw Transition House. She has served as co-chair of the Board of Directors for Women’s Shelters Canada and has participated in other national initiatives\, including the Expert Engagement to Address and Prevent Gender-Based Violence (GBV) to help inform the National Action Plan to End GBV. \nCrystal Giesbrecht has served as the Director of Research and Communications at PATHS since January 2011. Crystal is a Ph.D. Candidate in the Department of Justice Studies at the University of Regina and a Vanier Canada Scholar. She conducts research relating to intimate partner violence and publishes her work in peer-reviewed journals. \nBoth Jo-Anne and Crystal have served as Expert Advisory Panel members for the Canadian Femicide Observatory for Justice and Accountability’s (CFOJA)\, as panelists for Saskatchewan’s current Domestic Violence Death Review\, and sit on the Multi-Sectoral Review Committee for Clare’s Law.
URL:https://pathssk.org/event/paths-understanding-dynamics-of-domestic-violence-for-family-law-practitioners/
CATEGORIES:PATHS
ORGANIZER;CN="PATHS Saskatchewan":MAILTO:training@pathssk.org
END:VEVENT
BEGIN:VEVENT
DTSTART;TZID=America/Regina:20240125T133000
DTEND;TZID=America/Regina:20240125T143000
DTSTAMP:20260421T192318
CREATED:20240124T200107Z
LAST-MODIFIED:20240124T200107Z
UID:2731-1706189400-1706193000@pathssk.org
SUMMARY:Safe and Together 1 Hour Briefing
DESCRIPTION:
URL:https://pathssk.org/event/safe-and-together-1-hour-briefing/
ATTACH;FMTTYPE=image/png:https://pathssk.org/wp-content/uploads/2024/01/Safe-and-Together-1-hour-briefing-1.png
END:VEVENT
END:VCALENDAR