BEGIN:VCALENDAR
VERSION:2.0
PRODID:-//PATHS – Provincial Association of Transition Houses and Services of Saskatchewan - ECPv6.15.17//NONSGML v1.0//EN
CALSCALE:GREGORIAN
METHOD:PUBLISH
X-ORIGINAL-URL:https://pathssk.org
X-WR-CALDESC:Events for PATHS – Provincial Association of Transition Houses and Services of Saskatchewan
REFRESH-INTERVAL;VALUE=DURATION:PT1H
X-Robots-Tag:noindex
X-PUBLISHED-TTL:PT1H
BEGIN:VTIMEZONE
TZID:America/Regina
BEGIN:STANDARD
TZOFFSETFROM:-0600
TZOFFSETTO:-0600
TZNAME:CST
DTSTART:20230101T000000
END:STANDARD
END:VTIMEZONE
BEGIN:VEVENT
DTSTART;TZID=America/Regina:20240917T120000
DTEND;TZID=America/Regina:20240917T130000
DTSTAMP:20260421T062435
CREATED:20240820T175529Z
LAST-MODIFIED:20240820T175529Z
UID:2953-1726574400-1726578000@pathssk.org
SUMMARY:Webinar: Addressing Gender-Based Violence in Saskatchewan Through Second-Stage Housing
DESCRIPTION:
URL:https://pathssk.org/event/webinar-addressing-gender-based-violence-in-saskatchewan-through-second-stage-housing/
LOCATION:Online
ORGANIZER;CN="PATHS Saskatchewan":MAILTO:training@pathssk.org
END:VEVENT
END:VCALENDAR