BEGIN:VCALENDAR
VERSION:2.0
PRODID:-//PATHS – Provincial Association of Transition Houses and Services of Saskatchewan - ECPv6.15.17//NONSGML v1.0//EN
CALSCALE:GREGORIAN
METHOD:PUBLISH
X-ORIGINAL-URL:https://pathssk.org
X-WR-CALDESC:Events for PATHS – Provincial Association of Transition Houses and Services of Saskatchewan
REFRESH-INTERVAL;VALUE=DURATION:PT1H
X-Robots-Tag:noindex
X-PUBLISHED-TTL:PT1H
BEGIN:VTIMEZONE
TZID:America/Regina
BEGIN:STANDARD
TZOFFSETFROM:-0600
TZOFFSETTO:-0600
TZNAME:CST
DTSTART:20230101T000000
END:STANDARD
END:VTIMEZONE
BEGIN:VEVENT
DTSTART;TZID=America/Regina:20241004T093000
DTEND;TZID=America/Regina:20241004T120000
DTSTAMP:20260420T161852
CREATED:20240923T201936Z
LAST-MODIFIED:20240923T201936Z
UID:3002-1728034200-1728043200@pathssk.org
SUMMARY:Sisters in Spirit Walk for Healing
DESCRIPTION:Honouring the lives of Missing and Murdered Indigenous Women and Girls and bringing healing to families and community. \nSTART: mâmawêyatitân centre – Multipurpose Room \nEND: Place of Reflection (RCMP Heritage Centre) \n  \nRefreshments provided by RPS\, Heritage Centre and Place of Reflection Committee. \nAll are invited to attend a performance at the Heritage Centre by Brad Bellegarde. \nPlease arrange your own return transportation.
URL:https://pathssk.org/event/sisters-in-spirit-walk-for-healing/
ATTACH;FMTTYPE=image/jpeg:https://pathssk.org/wp-content/uploads/2024/09/sisters-in-spirit.jpg
END:VEVENT
BEGIN:VEVENT
DTSTART;TZID=America/Regina:20241004T180000
DTEND;TZID=America/Regina:20241004T193000
DTSTAMP:20260420T161852
CREATED:20241001T155738Z
LAST-MODIFIED:20241001T155738Z
UID:3008-1728064800-1728070200@pathssk.org
SUMMARY:Sisters in Spirit Annual Vigil
DESCRIPTION:
URL:https://pathssk.org/event/sisters-in-spirit-annual-vigil/
ATTACH;FMTTYPE=image/jpeg:https://pathssk.org/wp-content/uploads/2024/10/october-4-regina-1.jpg
END:VEVENT
BEGIN:VEVENT
DTSTART;TZID=America/Regina:20241016T080000
DTEND;TZID=America/Regina:20241017T170000
DTSTAMP:20260420T161852
CREATED:20240404T210146Z
LAST-MODIFIED:20240430T194656Z
UID:2811-1729065600-1729184400@pathssk.org
SUMMARY:PATHS 40th Anniversary Conference
DESCRIPTION:PATHS invites you to join us at our conference this October 16-17\, 2024 \nThe theme of our conference this year\, in addition to being our 40th anniversary\, is Reflecting on the Past and Envisioning a Future without Abuse. \nTo register please visit us HERE!
URL:https://pathssk.org/event/paths-40th-anniversary-conference/
LOCATION:Atlas Hotel\, 4177 Albert St.\, Regina\, Saskatchewan\, S4S 3R6\, Canada
ATTACH;FMTTYPE=image/png:https://pathssk.org/wp-content/uploads/2024/04/Early-Bird-Registration-now-open-625-x-225-px.png
ORGANIZER;CN="PATHS Saskatchewan":MAILTO:training@pathssk.org
END:VEVENT
END:VCALENDAR